BEGIN:VCALENDAR
VERSION:2.0
PRODID:-//Plast - ECPv6.15.1.1//NONSGML v1.0//EN
CALSCALE:GREGORIAN
METHOD:PUBLISH
X-ORIGINAL-URL:https://ottawa.plast.ca
X-WR-CALDESC:Events for Plast
REFRESH-INTERVAL;VALUE=DURATION:PT1H
X-Robots-Tag:noindex
X-PUBLISHED-TTL:PT1H
BEGIN:VTIMEZONE
TZID:America/Toronto
BEGIN:DAYLIGHT
TZOFFSETFROM:-0500
TZOFFSETTO:-0400
TZNAME:EDT
DTSTART:20250309T070000
END:DAYLIGHT
BEGIN:STANDARD
TZOFFSETFROM:-0400
TZOFFSETTO:-0500
TZNAME:EST
DTSTART:20251102T060000
END:STANDARD
END:VTIMEZONE
BEGIN:VEVENT
DTSTART;TZID=America/Toronto:20250104T140000
DTEND;TZID=America/Toronto:20250104T180000
DTSTAMP:20260421T062838
CREATED:20241125T040833Z
LAST-MODIFIED:20241125T040836Z
UID:4640-1735999200-1736013600@ottawa.plast.ca
SUMMARY:Коляда
DESCRIPTION:Пластуни ходять колядувати в групах або роях/гуртках разом з виховниками та батьками-добровольцями по районах Оттави і Ґатіно. Збірка грошей на станичні потреби (Пласт Оттава/Plast Ottawa).
URL:https://ottawa.plast.ca/event/%d0%ba%d0%be%d0%bb%d1%8f%d0%b4%d0%b0-2
LOCATION:ON
END:VEVENT
BEGIN:VEVENT
DTSTART;TZID=America/Toronto:20250113T180000
DTEND;TZID=America/Toronto:20250113T200000
DTSTAMP:20260421T062838
CREATED:20241125T040951Z
LAST-MODIFIED:20241217T025832Z
UID:4642-1736791200-1736798400@ottawa.plast.ca
SUMMARY:Коляда
DESCRIPTION:Пластуни ходять колядувати в групах або роях/гуртках разом з виховниками та батьками-добровольцями по районах Оттави і Ґатіно. Збірка грошей на станичні потреби (Пласт Оттава/Plast Ottawa).
URL:https://ottawa.plast.ca/event/4642
LOCATION:ON
END:VEVENT
BEGIN:VEVENT
DTSTART;TZID=America/Toronto:20250118T180000
DTEND;TZID=America/Toronto:20250118T235900
DTSTAMP:20260421T062838
CREATED:20241217T030803Z
LAST-MODIFIED:20241217T030807Z
UID:4663-1737223200-1737244740@ottawa.plast.ca
SUMMARY:Маланка
DESCRIPTION:МАЛАНКА 2025 – це незабутня подія\, наповнена чудовою атмосферою\, танцями\, запашною вечерею\, козацьким столом\, десертами та коктейлями. Заробіток на підтримку програми Пласту в Оттаві! \n\n\n\nЦе вечірка\, яка обєднює українську громаду в одну велику родину! \n\n\n\nНе пропустіть цю неймовірну подію — придбайте ранні квитки до 31 грудня за $130 для дорослого та $80 для дітей (10-16).  \n\n\n\nВже з 1го січня ціни піднімуться до $140 за дорослогота $95 для дітей (10-16).  \n\n\n\nКвитки на Забаву $60 (початок 21:00) – це включатиме танці та перекуску. \n\n\n\nГрає гурт Хлопці з Міста / Hloptsi Z Mista \n\n\n\nВечеря о 19:00 \n\n\n\nКозацький Стіл та Десерти \n\n\n\nБар за готівку \n\n\n\nБронювання столиків та попередження про наявність алергії ottawamalanka@gmail.com. Після резервації столика на 8-10 осіб вам буде присвоєно номер столика. Прохання вказувати повні імена присутніх за столом. \n\n\n\nПідкресліть свій стиль – гарною сукнею та краваткою !!!
URL:https://ottawa.plast.ca/event/%d0%bc%d0%b0%d0%bb%d0%b0%d0%bd%d0%ba%d0%b0
LOCATION:Заля української православної церкви\, 1000 Byron Ave\, Ottawa\, ON\, K2A 0J3\, Canada
ATTACH;FMTTYPE=image/png:https://ottawa.plast.ca/wp-content/uploads/2024/12/Malanka-2025.png
END:VEVENT
BEGIN:VEVENT
DTSTART;TZID=America/Toronto:20250120T183000
DTEND;TZID=America/Toronto:20250120T200000
DTSTAMP:20260421T062838
CREATED:20241125T041416Z
LAST-MODIFIED:20241125T041419Z
UID:4646-1737397800-1737403200@ottawa.plast.ca
SUMMARY:Сходини
DESCRIPTION:Приходимо на сходини в хустках і приносимо співаник.
URL:https://ottawa.plast.ca/event/%d1%81%d1%85%d0%be%d0%b4%d0%b8%d0%bd%d0%b8-11
LOCATION:École élémentaire publique Charlotte-Lemieux\, 2093 Bel-Air Dr\, Ottawa\, Ontario\, K2C 0X2\, Canada
END:VEVENT
BEGIN:VEVENT
DTSTART;TZID=America/Toronto:20250126T144500
DTEND;TZID=America/Toronto:20250126T160000
DTSTAMP:20260421T062838
CREATED:20241125T041835Z
LAST-MODIFIED:20241125T041838Z
UID:4648-1737902700-1737907200@ottawa.plast.ca
SUMMARY:Загальні Збори
DESCRIPTION:Станичні загальні збори відбудуться в неділю 26-го січня\, 2025 о 14:45 у залі української католицької церкви (952 Green Valley Cres) На зборах відбудеться: представлення звітів та перевірка звітів з минулого року\, звіт станичної ради та вибір станичного проводу на наступний рік. Всі запрошені\, однак згідно з правилами\, тільки члени Пласту мають право голосувати.
URL:https://ottawa.plast.ca/event/%d0%b7%d0%b0%d0%b3%d0%b0%d0%bb%d1%8c%d0%bd%d1%96-%d0%b7%d0%b1%d0%be%d1%80%d0%b8-2
LOCATION:Заля української католицької церкви\, 952 Green Valley Cres\, Ottawa\, ON\, K2C 3K7\, Canada
END:VEVENT
BEGIN:VEVENT
DTSTART;TZID=America/Toronto:20250127T183000
DTEND;TZID=America/Toronto:20250127T200000
DTSTAMP:20260421T062838
CREATED:20241125T042042Z
LAST-MODIFIED:20241125T042045Z
UID:4650-1738002600-1738008000@ottawa.plast.ca
SUMMARY:Сходини
DESCRIPTION:Приходимо на сходини в хустках і приносимо співаник.
URL:https://ottawa.plast.ca/event/%d1%81%d1%85%d0%be%d0%b4%d0%b8%d0%bd%d0%b8-12
LOCATION:École élémentaire publique Charlotte-Lemieux\, 2093 Bel-Air Dr\, Ottawa\, Ontario\, K2C 0X2\, Canada
END:VEVENT
END:VCALENDAR